BEGIN:VCALENDAR
VERSION:2.0
PRODID:icalendar-ruby
CALSCALE:GREGORIAN
METHOD:PUBLISH
BEGIN:VEVENT
DTSTAMP:20260420T111526Z
UID:6-899491@stdavidsdelta.com
DTSTART:20260726T170000Z
DTEND:20260726T180000Z
CLASS:PUBLIC
CREATED:20260419T233535
DESCRIPTION:Holy Communion\; PENTECOST!
LAST-MODIFIED:20260419T233535
LOCATION:
SUMMARY:Holy Communion
URL;VALUE=URI:https://www.stdavidsdelta.com/events/holy-communion/2026-07-2
 6
END:VEVENT
END:VCALENDAR
