BEGIN:VCALENDAR
VERSION:2.0
PRODID:icalendar-ruby
CALSCALE:GREGORIAN
METHOD:PUBLISH
BEGIN:VEVENT
DTSTAMP:20260420T125935Z
UID:6-899906@stdavidsdelta.com
DTSTART:20260802T170000Z
DTEND:20260802T180000Z
CLASS:PUBLIC
CREATED:20260420T043124
DESCRIPTION:Holy Communion\; PENTECOST!
LAST-MODIFIED:20260420T043124
LOCATION:
SUMMARY:Holy Communion
URL;VALUE=URI:https://www.stdavidsdelta.com/events/holy-communion/2026-08-0
 2
END:VEVENT
END:VCALENDAR
