BEGIN:VCALENDAR
VERSION:2.0
PRODID:icalendar-ruby
CALSCALE:GREGORIAN
METHOD:PUBLISH
BEGIN:VEVENT
DTSTAMP:20260419T131921Z
UID:6-897432@stdavidsdelta.com
DTSTART:20260927T170000Z
DTEND:20260927T180000Z
CLASS:PUBLIC
CREATED:20260419T051240
DESCRIPTION:Holy Communion\; PENTECOST!
LAST-MODIFIED:20260419T051240
LOCATION:
SUMMARY:Holy Communion
URL;VALUE=URI:https://www.stdavidsdelta.com/events/holy-communion/2026-09-2
 7
END:VEVENT
END:VCALENDAR
