BEGIN:VCALENDAR
VERSION:2.0
PRODID:icalendar-ruby
CALSCALE:GREGORIAN
METHOD:PUBLISH
BEGIN:VEVENT
DTSTAMP:20260419T151926Z
UID:6-897433@stdavidsdelta.com
DTSTART:20261004T170000Z
DTEND:20261004T180000Z
CLASS:PUBLIC
CREATED:20260419T051240
DESCRIPTION:Holy Communion\; PENTECOST!
LAST-MODIFIED:20260419T051240
LOCATION:
SUMMARY:Holy Communion
URL;VALUE=URI:https://www.stdavidsdelta.com/events/holy-communion/2026-10-0
 4
END:VEVENT
END:VCALENDAR
