BEGIN:VCALENDAR
VERSION:2.0
PRODID:icalendar-ruby
CALSCALE:GREGORIAN
METHOD:PUBLISH
BEGIN:VEVENT
DTSTAMP:20260419T181121Z
UID:6-897848@stdavidsdelta.com
DTSTART:20261018T170000Z
DTEND:20261018T180000Z
CLASS:PUBLIC
CREATED:20260419T085443
DESCRIPTION:Holy Communion\; PENTECOST!
LAST-MODIFIED:20260419T085443
LOCATION:
SUMMARY:Holy Communion
URL;VALUE=URI:https://www.stdavidsdelta.com/events/holy-communion/2026-10-1
 8
END:VEVENT
END:VCALENDAR
