BEGIN:VCALENDAR
VERSION:2.0
PRODID:icalendar-ruby
CALSCALE:GREGORIAN
METHOD:PUBLISH
BEGIN:VEVENT
DTSTAMP:20260419T200944Z
UID:6-898262@stdavidsdelta.com
DTSTART:20261025T170000Z
DTEND:20261025T180000Z
CLASS:PUBLIC
CREATED:20260419T123713
DESCRIPTION:Holy Communion\; PENTECOST!
LAST-MODIFIED:20260419T123713
LOCATION:
SUMMARY:Holy Communion
URL;VALUE=URI:https://www.stdavidsdelta.com/events/holy-communion/2026-10-2
 5
END:VEVENT
END:VCALENDAR
